BEGIN:VCALENDAR
VERSION:2.0
PRODID:-//Fahrschule Reckers - ECPv6.15.18//NONSGML v1.0//EN
CALSCALE:GREGORIAN
METHOD:PUBLISH
X-WR-CALNAME:Fahrschule Reckers
X-ORIGINAL-URL:https://www.fahrschule-reckers.de
X-WR-CALDESC:Veranstaltungen für Fahrschule Reckers
REFRESH-INTERVAL;VALUE=DURATION:PT1H
X-Robots-Tag:noindex
X-PUBLISHED-TTL:PT1H
BEGIN:VTIMEZONE
TZID:Europe/Berlin
BEGIN:DAYLIGHT
TZOFFSETFROM:+0100
TZOFFSETTO:+0200
TZNAME:CEST
DTSTART:20250330T010000
END:DAYLIGHT
BEGIN:STANDARD
TZOFFSETFROM:+0200
TZOFFSETTO:+0100
TZNAME:CET
DTSTART:20251026T010000
END:STANDARD
BEGIN:DAYLIGHT
TZOFFSETFROM:+0100
TZOFFSETTO:+0200
TZNAME:CEST
DTSTART:20260329T010000
END:DAYLIGHT
BEGIN:STANDARD
TZOFFSETFROM:+0200
TZOFFSETTO:+0100
TZNAME:CET
DTSTART:20261025T010000
END:STANDARD
BEGIN:DAYLIGHT
TZOFFSETFROM:+0100
TZOFFSETTO:+0200
TZNAME:CEST
DTSTART:20270328T010000
END:DAYLIGHT
BEGIN:STANDARD
TZOFFSETFROM:+0200
TZOFFSETTO:+0100
TZNAME:CET
DTSTART:20271031T010000
END:STANDARD
END:VTIMEZONE
BEGIN:VEVENT
DTSTART;TZID=Europe/Berlin:20260202T170000
DTEND;TZID=Europe/Berlin:20260202T200000
DTSTAMP:20260424T104255
CREATED:20251203T130847Z
LAST-MODIFIED:20251203T131046Z
UID:2278-1770051600-1770062400@www.fahrschule-reckers.de
SUMMARY:Theorie in Osterwick-Rosendahl 7/7
DESCRIPTION:
URL:https://www.fahrschule-reckers.de/kurs/theorie-in-osterwick-rosendahl-7-7/
LOCATION:Fahrschule Rosendahl-Osterwick\, Holtwicker Str. 1\, Rosendahl-Osterwick\, 48720\, Deutschland
CATEGORIES:Unterricht in Osterwick-Rosendahl
END:VEVENT
BEGIN:VEVENT
DTSTART;TZID=Europe/Berlin:20260206T170000
DTEND;TZID=Europe/Berlin:20260206T200000
DTSTAMP:20260424T104255
CREATED:20251203T132233Z
LAST-MODIFIED:20251203T132233Z
UID:2370-1770397200-1770408000@www.fahrschule-reckers.de
SUMMARY:Theorie in Coesfeld - Zusatzstoff Motorrad 1/2
DESCRIPTION:
URL:https://www.fahrschule-reckers.de/kurs/theorie-in-coesfeld-zusatzstoff-motorrad-1-2/
LOCATION:Fahrschule Coesfeld\, Letter Straße 46\, Coesfeld\, 48653\, Deutschland
CATEGORIES:Unterricht in Coesfeld (Motorrad)
END:VEVENT
BEGIN:VEVENT
DTSTART;TZID=Europe/Berlin:20260207T090000
DTEND;TZID=Europe/Berlin:20260207T120000
DTSTAMP:20260424T104255
CREATED:20251203T132234Z
LAST-MODIFIED:20251203T132234Z
UID:2371-1770454800-1770465600@www.fahrschule-reckers.de
SUMMARY:Theorie in Coesfeld - Zusatzstoff Motorrad 2/2
DESCRIPTION:
URL:https://www.fahrschule-reckers.de/kurs/theorie-in-coesfeld-zusatzstoff-motorrad-2-2/
LOCATION:Fahrschule Coesfeld\, Letter Straße 46\, Coesfeld\, 48653\, Deutschland
CATEGORIES:Unterricht in Coesfeld (Motorrad)
END:VEVENT
END:VCALENDAR