BEGIN:VCALENDAR
VERSION:2.0
PRODID:-//Fahrschule Reckers - ECPv6.15.18//NONSGML v1.0//EN
CALSCALE:GREGORIAN
METHOD:PUBLISH
X-WR-CALNAME:Fahrschule Reckers
X-ORIGINAL-URL:https://www.fahrschule-reckers.de
X-WR-CALDESC:Veranstaltungen für Fahrschule Reckers
REFRESH-INTERVAL;VALUE=DURATION:PT1H
X-Robots-Tag:noindex
X-PUBLISHED-TTL:PT1H
BEGIN:VTIMEZONE
TZID:Europe/Berlin
BEGIN:DAYLIGHT
TZOFFSETFROM:+0100
TZOFFSETTO:+0200
TZNAME:CEST
DTSTART:20250330T010000
END:DAYLIGHT
BEGIN:STANDARD
TZOFFSETFROM:+0200
TZOFFSETTO:+0100
TZNAME:CET
DTSTART:20251026T010000
END:STANDARD
BEGIN:DAYLIGHT
TZOFFSETFROM:+0100
TZOFFSETTO:+0200
TZNAME:CEST
DTSTART:20260329T010000
END:DAYLIGHT
BEGIN:STANDARD
TZOFFSETFROM:+0200
TZOFFSETTO:+0100
TZNAME:CET
DTSTART:20261025T010000
END:STANDARD
BEGIN:DAYLIGHT
TZOFFSETFROM:+0100
TZOFFSETTO:+0200
TZNAME:CEST
DTSTART:20270328T010000
END:DAYLIGHT
BEGIN:STANDARD
TZOFFSETFROM:+0200
TZOFFSETTO:+0100
TZNAME:CET
DTSTART:20271031T010000
END:STANDARD
END:VTIMEZONE
BEGIN:VEVENT
DTSTART;VALUE=DATE:20260501
DTEND;VALUE=DATE:20260502
DTSTAMP:20260422T212258
CREATED:20251202T144712Z
LAST-MODIFIED:20251202T144712Z
UID:2048-1777593600-1777679999@www.fahrschule-reckers.de
SUMMARY:Tag der Arbeit
DESCRIPTION:
URL:https://www.fahrschule-reckers.de/kurs/tag-der-arbeit-2/
CATEGORIES:Feiertage 2026
END:VEVENT
BEGIN:VEVENT
DTSTART;TZID=Europe/Berlin:20260504T180000
DTEND;TZID=Europe/Berlin:20260504T210000
DTSTAMP:20260422T212258
CREATED:20251203T123826Z
LAST-MODIFIED:20251203T123826Z
UID:2205-1777917600-1777928400@www.fahrschule-reckers.de
SUMMARY:Theorie in Gescher 5/7
DESCRIPTION:
URL:https://www.fahrschule-reckers.de/kurs/theorie-in-gescher-5-7-3/
LOCATION:Fahrschule Gescher\, Hauptstraße 3\, Gescher\, 48712\, Deutschland
CATEGORIES:Unterricht in Gescher
END:VEVENT
BEGIN:VEVENT
DTSTART;TZID=Europe/Berlin:20260505T180000
DTEND;TZID=Europe/Berlin:20260505T210000
DTSTAMP:20260422T212258
CREATED:20251203T123826Z
LAST-MODIFIED:20251203T123826Z
UID:2204-1778004000-1778014800@www.fahrschule-reckers.de
SUMMARY:Theorie in Gescher 6/7
DESCRIPTION:
URL:https://www.fahrschule-reckers.de/kurs/theorie-in-gescher-6-7-3/
LOCATION:Fahrschule Gescher\, Hauptstraße 3\, Gescher\, 48712\, Deutschland
CATEGORIES:Unterricht in Gescher
END:VEVENT
BEGIN:VEVENT
DTSTART;TZID=Europe/Berlin:20260506T180000
DTEND;TZID=Europe/Berlin:20260506T210000
DTSTAMP:20260422T212258
CREATED:20251203T123827Z
LAST-MODIFIED:20251203T123827Z
UID:2206-1778090400-1778101200@www.fahrschule-reckers.de
SUMMARY:Theorie in Gescher 7/7
DESCRIPTION:
URL:https://www.fahrschule-reckers.de/kurs/theorie-in-gescher-7-7-3/
LOCATION:Fahrschule Gescher\, Hauptstraße 3\, Gescher\, 48712\, Deutschland
CATEGORIES:Unterricht in Gescher
END:VEVENT
BEGIN:VEVENT
DTSTART;TZID=Europe/Berlin:20260508T170000
DTEND;TZID=Europe/Berlin:20260508T200000
DTSTAMP:20260422T212258
CREATED:20251203T132235Z
LAST-MODIFIED:20251203T132235Z
UID:2374-1778259600-1778270400@www.fahrschule-reckers.de
SUMMARY:Theorie in Coesfeld - Zusatzstoff Motorrad 1/2
DESCRIPTION:
URL:https://www.fahrschule-reckers.de/kurs/theorie-in-coesfeld-zusatzstoff-motorrad-1-2-3/
LOCATION:Fahrschule Coesfeld\, Letter Straße 46\, Coesfeld\, 48653\, Deutschland
CATEGORIES:Unterricht in Coesfeld (Motorrad)
END:VEVENT
BEGIN:VEVENT
DTSTART;TZID=Europe/Berlin:20260509T090000
DTEND;TZID=Europe/Berlin:20260509T120000
DTSTAMP:20260422T212258
CREATED:20251203T132235Z
LAST-MODIFIED:20251203T132235Z
UID:2375-1778317200-1778328000@www.fahrschule-reckers.de
SUMMARY:Theorie in Coesfeld - Zusatzstoff Motorrad 2/2
DESCRIPTION:
URL:https://www.fahrschule-reckers.de/kurs/theorie-in-coesfeld-zusatzstoff-motorrad-2-2-3/
LOCATION:Fahrschule Coesfeld\, Letter Straße 46\, Coesfeld\, 48653\, Deutschland
CATEGORIES:Unterricht in Coesfeld (Motorrad)
END:VEVENT
BEGIN:VEVENT
DTSTART;VALUE=DATE:20260514
DTEND;VALUE=DATE:20260515
DTSTAMP:20260422T212258
CREATED:20251202T144713Z
LAST-MODIFIED:20251202T144713Z
UID:2049-1778716800-1778803199@www.fahrschule-reckers.de
SUMMARY:Christi Himmelfahrt
DESCRIPTION:
URL:https://www.fahrschule-reckers.de/kurs/christi-himmelfahrt-2/
CATEGORIES:Feiertage 2026
END:VEVENT
BEGIN:VEVENT
DTSTART;VALUE=DATE:20260525
DTEND;VALUE=DATE:20260526
DTSTAMP:20260422T212258
CREATED:20251202T144714Z
LAST-MODIFIED:20251202T144714Z
UID:2050-1779667200-1779753599@www.fahrschule-reckers.de
SUMMARY:Pfingstmontag
DESCRIPTION:
URL:https://www.fahrschule-reckers.de/kurs/pfingstmontag-2/
CATEGORIES:Feiertage 2026
END:VEVENT
END:VCALENDAR