BEGIN:VCALENDAR
VERSION:2.0
PRODID:-//Fahrschule Reckers - ECPv6.15.18//NONSGML v1.0//EN
CALSCALE:GREGORIAN
METHOD:PUBLISH
X-ORIGINAL-URL:https://www.fahrschule-reckers.de
X-WR-CALDESC:Veranstaltungen für Fahrschule Reckers
REFRESH-INTERVAL;VALUE=DURATION:PT1H
X-Robots-Tag:noindex
X-PUBLISHED-TTL:PT1H
BEGIN:VTIMEZONE
TZID:Europe/Berlin
BEGIN:DAYLIGHT
TZOFFSETFROM:+0100
TZOFFSETTO:+0200
TZNAME:CEST
DTSTART:20250330T010000
END:DAYLIGHT
BEGIN:STANDARD
TZOFFSETFROM:+0200
TZOFFSETTO:+0100
TZNAME:CET
DTSTART:20251026T010000
END:STANDARD
BEGIN:DAYLIGHT
TZOFFSETFROM:+0100
TZOFFSETTO:+0200
TZNAME:CEST
DTSTART:20260329T010000
END:DAYLIGHT
BEGIN:STANDARD
TZOFFSETFROM:+0200
TZOFFSETTO:+0100
TZNAME:CET
DTSTART:20261025T010000
END:STANDARD
BEGIN:DAYLIGHT
TZOFFSETFROM:+0100
TZOFFSETTO:+0200
TZNAME:CEST
DTSTART:20270328T010000
END:DAYLIGHT
BEGIN:STANDARD
TZOFFSETFROM:+0200
TZOFFSETTO:+0100
TZNAME:CET
DTSTART:20271031T010000
END:STANDARD
END:VTIMEZONE
BEGIN:VEVENT
DTSTART;VALUE=DATE:20261003
DTEND;VALUE=DATE:20261004
DTSTAMP:20260424T165209
CREATED:20251202T144716Z
LAST-MODIFIED:20251202T144716Z
UID:2052-1790985600-1791071999@www.fahrschule-reckers.de
SUMMARY:Tag der Deutschen Einheit
DESCRIPTION:
URL:https://www.fahrschule-reckers.de/kurs/tag-der-deutschen-einheit-2/
CATEGORIES:Feiertage 2026
END:VEVENT
BEGIN:VEVENT
DTSTART;TZID=Europe/Berlin:20261012T170000
DTEND;TZID=Europe/Berlin:20261012T200000
DTSTAMP:20260424T165209
CREATED:20251203T131556Z
LAST-MODIFIED:20251203T131556Z
UID:2342-1791824400-1791835200@www.fahrschule-reckers.de
SUMMARY:Theorie in Osterwick-Rosendahl 1/7
DESCRIPTION:
URL:https://www.fahrschule-reckers.de/kurs/theorie-in-osterwick-rosendahl-1-7-7/
LOCATION:Fahrschule Rosendahl-Osterwick\, Holtwicker Str. 1\, Rosendahl-Osterwick\, 48720\, Deutschland
CATEGORIES:Unterricht in Osterwick-Rosendahl
END:VEVENT
BEGIN:VEVENT
DTSTART;TZID=Europe/Berlin:20261013T170000
DTEND;TZID=Europe/Berlin:20261013T200000
DTSTAMP:20260424T165209
CREATED:20251203T131557Z
LAST-MODIFIED:20251203T131557Z
UID:2343-1791910800-1791921600@www.fahrschule-reckers.de
SUMMARY:Theorie in Osterwick-Rosendahl 2/7
DESCRIPTION:
URL:https://www.fahrschule-reckers.de/kurs/theorie-in-osterwick-rosendahl-2-7-7/
LOCATION:Fahrschule Rosendahl-Osterwick\, Holtwicker Str. 1\, Rosendahl-Osterwick\, 48720\, Deutschland
CATEGORIES:Unterricht in Osterwick-Rosendahl
END:VEVENT
BEGIN:VEVENT
DTSTART;TZID=Europe/Berlin:20261014T170000
DTEND;TZID=Europe/Berlin:20261014T200000
DTSTAMP:20260424T165209
CREATED:20251203T131557Z
LAST-MODIFIED:20251203T131557Z
UID:2344-1791997200-1792008000@www.fahrschule-reckers.de
SUMMARY:Theorie in Osterwick-Rosendahl 3/7
DESCRIPTION:
URL:https://www.fahrschule-reckers.de/kurs/theorie-in-osterwick-rosendahl-3-7-7/
LOCATION:Fahrschule Rosendahl-Osterwick\, Holtwicker Str. 1\, Rosendahl-Osterwick\, 48720\, Deutschland
CATEGORIES:Unterricht in Osterwick-Rosendahl
END:VEVENT
BEGIN:VEVENT
DTSTART;TZID=Europe/Berlin:20261015T170000
DTEND;TZID=Europe/Berlin:20261015T200000
DTSTAMP:20260424T165209
CREATED:20251203T131557Z
LAST-MODIFIED:20251203T131557Z
UID:2345-1792083600-1792094400@www.fahrschule-reckers.de
SUMMARY:Theorie in Osterwick-Rosendahl 4/7
DESCRIPTION:
URL:https://www.fahrschule-reckers.de/kurs/theorie-in-osterwick-rosendahl-4-7-7/
LOCATION:Fahrschule Rosendahl-Osterwick\, Holtwicker Str. 1\, Rosendahl-Osterwick\, 48720\, Deutschland
CATEGORIES:Unterricht in Osterwick-Rosendahl
END:VEVENT
BEGIN:VEVENT
DTSTART;TZID=Europe/Berlin:20261016T170000
DTEND;TZID=Europe/Berlin:20261016T200000
DTSTAMP:20260424T165209
CREATED:20251203T131558Z
LAST-MODIFIED:20251203T131558Z
UID:2346-1792170000-1792180800@www.fahrschule-reckers.de
SUMMARY:Theorie in Osterwick-Rosendahl 5/7
DESCRIPTION:
URL:https://www.fahrschule-reckers.de/kurs/theorie-in-osterwick-rosendahl-5-7-7/
LOCATION:Fahrschule Rosendahl-Osterwick\, Holtwicker Str. 1\, Rosendahl-Osterwick\, 48720\, Deutschland
CATEGORIES:Unterricht in Osterwick-Rosendahl
END:VEVENT
BEGIN:VEVENT
DTSTART;TZID=Europe/Berlin:20261017T090000
DTEND;TZID=Europe/Berlin:20261017T120000
DTSTAMP:20260424T165209
CREATED:20251203T131558Z
LAST-MODIFIED:20251203T131558Z
UID:2347-1792227600-1792238400@www.fahrschule-reckers.de
SUMMARY:Theorie in Osterwick-Rosendahl 6/7
DESCRIPTION:
URL:https://www.fahrschule-reckers.de/kurs/theorie-in-osterwick-rosendahl-6-7-7/
LOCATION:Fahrschule Rosendahl-Osterwick\, Holtwicker Str. 1\, Rosendahl-Osterwick\, 48720\, Deutschland
CATEGORIES:Unterricht in Osterwick-Rosendahl
END:VEVENT
BEGIN:VEVENT
DTSTART;TZID=Europe/Berlin:20261019T170000
DTEND;TZID=Europe/Berlin:20261019T200000
DTSTAMP:20260424T165209
CREATED:20251203T131559Z
LAST-MODIFIED:20251203T131559Z
UID:2348-1792429200-1792440000@www.fahrschule-reckers.de
SUMMARY:Theorie in Osterwick-Rosendahl 7/7
DESCRIPTION:
URL:https://www.fahrschule-reckers.de/kurs/theorie-in-osterwick-rosendahl-7-7-7/
LOCATION:Fahrschule Rosendahl-Osterwick\, Holtwicker Str. 1\, Rosendahl-Osterwick\, 48720\, Deutschland
CATEGORIES:Unterricht in Osterwick-Rosendahl
END:VEVENT
END:VCALENDAR