BEGIN:VCALENDAR
VERSION:2.0
PRODID:-//Fahrschule Reckers - ECPv6.15.18//NONSGML v1.0//EN
CALSCALE:GREGORIAN
METHOD:PUBLISH
X-ORIGINAL-URL:https://www.fahrschule-reckers.de
X-WR-CALDESC:Veranstaltungen für Fahrschule Reckers
REFRESH-INTERVAL;VALUE=DURATION:PT1H
X-Robots-Tag:noindex
X-PUBLISHED-TTL:PT1H
BEGIN:VTIMEZONE
TZID:Europe/Berlin
BEGIN:DAYLIGHT
TZOFFSETFROM:+0100
TZOFFSETTO:+0200
TZNAME:CEST
DTSTART:20250330T010000
END:DAYLIGHT
BEGIN:STANDARD
TZOFFSETFROM:+0200
TZOFFSETTO:+0100
TZNAME:CET
DTSTART:20251026T010000
END:STANDARD
BEGIN:DAYLIGHT
TZOFFSETFROM:+0100
TZOFFSETTO:+0200
TZNAME:CEST
DTSTART:20260329T010000
END:DAYLIGHT
BEGIN:STANDARD
TZOFFSETFROM:+0200
TZOFFSETTO:+0100
TZNAME:CET
DTSTART:20261025T010000
END:STANDARD
BEGIN:DAYLIGHT
TZOFFSETFROM:+0100
TZOFFSETTO:+0200
TZNAME:CEST
DTSTART:20270328T010000
END:DAYLIGHT
BEGIN:STANDARD
TZOFFSETFROM:+0200
TZOFFSETTO:+0100
TZNAME:CET
DTSTART:20271031T010000
END:STANDARD
END:VTIMEZONE
BEGIN:VEVENT
DTSTART;VALUE=DATE:20261101
DTEND;VALUE=DATE:20261102
DTSTAMP:20260424T181551
CREATED:20251202T144717Z
LAST-MODIFIED:20251202T144717Z
UID:2053-1793491200-1793577599@www.fahrschule-reckers.de
SUMMARY:Allerheiligen
DESCRIPTION:
URL:https://www.fahrschule-reckers.de/kurs/allerheiligen-2/
CATEGORIES:Feiertage 2026
END:VEVENT
BEGIN:VEVENT
DTSTART;TZID=Europe/Berlin:20261102T170000
DTEND;TZID=Europe/Berlin:20261102T200000
DTSTAMP:20260424T181551
CREATED:20251202T151800Z
LAST-MODIFIED:20251202T151800Z
UID:2142-1793638800-1793649600@www.fahrschule-reckers.de
SUMMARY:Theorie in Coesfeld 1/7
DESCRIPTION:
URL:https://www.fahrschule-reckers.de/kurs/theorie-in-coesfeld-1-7-6/
LOCATION:Fahrschule Coesfeld\, Letter Straße 46\, Coesfeld\, 48653\, Deutschland
CATEGORIES:Unterricht in Coesfeld
END:VEVENT
BEGIN:VEVENT
DTSTART;TZID=Europe/Berlin:20261103T170000
DTEND;TZID=Europe/Berlin:20261103T200000
DTSTAMP:20260424T181551
CREATED:20251202T151801Z
LAST-MODIFIED:20251202T151801Z
UID:2143-1793725200-1793736000@www.fahrschule-reckers.de
SUMMARY:Theorie in Coesfeld 2/7
DESCRIPTION:
URL:https://www.fahrschule-reckers.de/kurs/theorie-in-coesfeld-2-7-6/
LOCATION:Fahrschule Coesfeld\, Letter Straße 46\, Coesfeld\, 48653\, Deutschland
CATEGORIES:Unterricht in Coesfeld
END:VEVENT
BEGIN:VEVENT
DTSTART;TZID=Europe/Berlin:20261104T170000
DTEND;TZID=Europe/Berlin:20261104T200000
DTSTAMP:20260424T181551
CREATED:20251202T151802Z
LAST-MODIFIED:20251202T151802Z
UID:2144-1793811600-1793822400@www.fahrschule-reckers.de
SUMMARY:Theorie in Coesfeld 3/7
DESCRIPTION:
URL:https://www.fahrschule-reckers.de/kurs/theorie-in-coesfeld-3-7-6/
LOCATION:Fahrschule Coesfeld\, Letter Straße 46\, Coesfeld\, 48653\, Deutschland
CATEGORIES:Unterricht in Coesfeld
END:VEVENT
BEGIN:VEVENT
DTSTART;TZID=Europe/Berlin:20261105T170000
DTEND;TZID=Europe/Berlin:20261105T200000
DTSTAMP:20260424T181551
CREATED:20251202T151803Z
LAST-MODIFIED:20251202T151803Z
UID:2145-1793898000-1793908800@www.fahrschule-reckers.de
SUMMARY:Theorie in Coesfeld 4/7
DESCRIPTION:
URL:https://www.fahrschule-reckers.de/kurs/theorie-in-coesfeld-4-7-6/
LOCATION:Fahrschule Coesfeld\, Letter Straße 46\, Coesfeld\, 48653\, Deutschland
CATEGORIES:Unterricht in Coesfeld
END:VEVENT
BEGIN:VEVENT
DTSTART;TZID=Europe/Berlin:20261106T170000
DTEND;TZID=Europe/Berlin:20261106T200000
DTSTAMP:20260424T181551
CREATED:20251202T151802Z
LAST-MODIFIED:20251202T151802Z
UID:2146-1793984400-1793995200@www.fahrschule-reckers.de
SUMMARY:Theorie in Coesfeld 5/7
DESCRIPTION:
URL:https://www.fahrschule-reckers.de/kurs/theorie-in-coesfeld-5-7-6/
LOCATION:Fahrschule Coesfeld\, Letter Straße 46\, Coesfeld\, 48653\, Deutschland
CATEGORIES:Unterricht in Coesfeld
END:VEVENT
BEGIN:VEVENT
DTSTART;TZID=Europe/Berlin:20261107T090000
DTEND;TZID=Europe/Berlin:20261107T120000
DTSTAMP:20260424T181551
CREATED:20251202T151803Z
LAST-MODIFIED:20251202T151803Z
UID:2147-1794042000-1794052800@www.fahrschule-reckers.de
SUMMARY:Theorie in Coesfeld 6/7
DESCRIPTION:
URL:https://www.fahrschule-reckers.de/kurs/theorie-in-coesfeld-6-7-6/
LOCATION:Fahrschule Coesfeld\, Letter Straße 46\, Coesfeld\, 48653\, Deutschland
CATEGORIES:Unterricht in Coesfeld
END:VEVENT
BEGIN:VEVENT
DTSTART;TZID=Europe/Berlin:20261109T170000
DTEND;TZID=Europe/Berlin:20261109T200000
DTSTAMP:20260424T181551
CREATED:20251202T151803Z
LAST-MODIFIED:20251202T151803Z
UID:2141-1794243600-1794254400@www.fahrschule-reckers.de
SUMMARY:Theorie in Coesfeld 7/7
DESCRIPTION:
URL:https://www.fahrschule-reckers.de/kurs/theorie-in-coesfeld-7-7-6/
LOCATION:Fahrschule Coesfeld\, Letter Straße 46\, Coesfeld\, 48653\, Deutschland
CATEGORIES:Unterricht in Coesfeld
END:VEVENT
BEGIN:VEVENT
DTSTART;TZID=Europe/Berlin:20261109T180000
DTEND;TZID=Europe/Berlin:20261109T210000
DTSTAMP:20260424T181551
CREATED:20251203T124206Z
LAST-MODIFIED:20251203T124206Z
UID:2243-1794247200-1794258000@www.fahrschule-reckers.de
SUMMARY:Theorie in Gescher 1/7
DESCRIPTION:
URL:https://www.fahrschule-reckers.de/kurs/theorie-in-gescher-1-7-6/
LOCATION:Fahrschule Gescher\, Hauptstraße 3\, Gescher\, 48712\, Deutschland
CATEGORIES:Unterricht in Gescher
END:VEVENT
BEGIN:VEVENT
DTSTART;TZID=Europe/Berlin:20261110T180000
DTEND;TZID=Europe/Berlin:20261110T210000
DTSTAMP:20260424T181551
CREATED:20251203T124207Z
LAST-MODIFIED:20251203T124207Z
UID:2244-1794333600-1794344400@www.fahrschule-reckers.de
SUMMARY:Theorie in Gescher 2/7
DESCRIPTION:
URL:https://www.fahrschule-reckers.de/kurs/theorie-in-gescher-2-7-6/
LOCATION:Fahrschule Gescher\, Hauptstraße 3\, Gescher\, 48712\, Deutschland
CATEGORIES:Unterricht in Gescher
END:VEVENT
BEGIN:VEVENT
DTSTART;TZID=Europe/Berlin:20261111T180000
DTEND;TZID=Europe/Berlin:20261111T210000
DTSTAMP:20260424T181551
CREATED:20251203T124207Z
LAST-MODIFIED:20251203T124207Z
UID:2245-1794420000-1794430800@www.fahrschule-reckers.de
SUMMARY:Theorie in Gescher 3/7
DESCRIPTION:
URL:https://www.fahrschule-reckers.de/kurs/theorie-in-gescher-3-7-6/
LOCATION:Fahrschule Gescher\, Hauptstraße 3\, Gescher\, 48712\, Deutschland
CATEGORIES:Unterricht in Gescher
END:VEVENT
BEGIN:VEVENT
DTSTART;TZID=Europe/Berlin:20261112T180000
DTEND;TZID=Europe/Berlin:20261112T210000
DTSTAMP:20260424T181551
CREATED:20251203T124208Z
LAST-MODIFIED:20251203T124208Z
UID:2246-1794506400-1794517200@www.fahrschule-reckers.de
SUMMARY:Theorie in Gescher 4/7
DESCRIPTION:
URL:https://www.fahrschule-reckers.de/kurs/theorie-in-gescher-4-7-6/
LOCATION:Fahrschule Gescher\, Hauptstraße 3\, Gescher\, 48712\, Deutschland
CATEGORIES:Unterricht in Gescher
END:VEVENT
BEGIN:VEVENT
DTSTART;TZID=Europe/Berlin:20261113T180000
DTEND;TZID=Europe/Berlin:20261113T210000
DTSTAMP:20260424T181551
CREATED:20251203T124208Z
LAST-MODIFIED:20251203T124208Z
UID:2247-1794592800-1794603600@www.fahrschule-reckers.de
SUMMARY:Theorie in Gescher 5/7
DESCRIPTION:
URL:https://www.fahrschule-reckers.de/kurs/theorie-in-gescher-5-7-6/
LOCATION:Fahrschule Gescher\, Hauptstraße 3\, Gescher\, 48712\, Deutschland
CATEGORIES:Unterricht in Gescher
END:VEVENT
BEGIN:VEVENT
DTSTART;TZID=Europe/Berlin:20261114T090000
DTEND;TZID=Europe/Berlin:20261114T120000
DTSTAMP:20260424T181551
CREATED:20251203T124208Z
LAST-MODIFIED:20251203T124208Z
UID:2248-1794646800-1794657600@www.fahrschule-reckers.de
SUMMARY:Theorie in Gescher 6/7
DESCRIPTION:
URL:https://www.fahrschule-reckers.de/kurs/theorie-in-gescher-6-7-6/
LOCATION:Fahrschule Gescher\, Hauptstraße 3\, Gescher\, 48712\, Deutschland
CATEGORIES:Unterricht in Gescher
END:VEVENT
BEGIN:VEVENT
DTSTART;TZID=Europe/Berlin:20261116T180000
DTEND;TZID=Europe/Berlin:20261116T210000
DTSTAMP:20260424T181551
CREATED:20251203T124209Z
LAST-MODIFIED:20251203T124209Z
UID:2242-1794852000-1794862800@www.fahrschule-reckers.de
SUMMARY:Theorie in Gescher 7/7
DESCRIPTION:
URL:https://www.fahrschule-reckers.de/kurs/theorie-in-gescher-7-7-6/
LOCATION:Fahrschule Gescher\, Hauptstraße 3\, Gescher\, 48712\, Deutschland
CATEGORIES:Unterricht in Gescher
END:VEVENT
END:VCALENDAR