BEGIN:VCALENDAR
VERSION:2.0
PRODID:-//Fahrschule Reckers - ECPv6.15.18//NONSGML v1.0//EN
CALSCALE:GREGORIAN
METHOD:PUBLISH
X-ORIGINAL-URL:https://www.fahrschule-reckers.de
X-WR-CALDESC:Veranstaltungen für Fahrschule Reckers
REFRESH-INTERVAL;VALUE=DURATION:PT1H
X-Robots-Tag:noindex
X-PUBLISHED-TTL:PT1H
BEGIN:VTIMEZONE
TZID:Europe/Berlin
BEGIN:DAYLIGHT
TZOFFSETFROM:+0100
TZOFFSETTO:+0200
TZNAME:CEST
DTSTART:20250330T010000
END:DAYLIGHT
BEGIN:STANDARD
TZOFFSETFROM:+0200
TZOFFSETTO:+0100
TZNAME:CET
DTSTART:20251026T010000
END:STANDARD
BEGIN:DAYLIGHT
TZOFFSETFROM:+0100
TZOFFSETTO:+0200
TZNAME:CEST
DTSTART:20260329T010000
END:DAYLIGHT
BEGIN:STANDARD
TZOFFSETFROM:+0200
TZOFFSETTO:+0100
TZNAME:CET
DTSTART:20261025T010000
END:STANDARD
BEGIN:DAYLIGHT
TZOFFSETFROM:+0100
TZOFFSETTO:+0200
TZNAME:CEST
DTSTART:20270328T010000
END:DAYLIGHT
BEGIN:STANDARD
TZOFFSETFROM:+0200
TZOFFSETTO:+0100
TZNAME:CET
DTSTART:20271031T010000
END:STANDARD
END:VTIMEZONE
BEGIN:VEVENT
DTSTART;TZID=Europe/Berlin:20261207T170000
DTEND;TZID=Europe/Berlin:20261207T200000
DTSTAMP:20260424T194804
CREATED:20251203T131625Z
LAST-MODIFIED:20251203T131625Z
UID:2356-1796662800-1796673600@www.fahrschule-reckers.de
SUMMARY:Theorie in Osterwick-Rosendahl 1/7
DESCRIPTION:
URL:https://www.fahrschule-reckers.de/kurs/theorie-in-osterwick-rosendahl-1-7-8/
LOCATION:Fahrschule Rosendahl-Osterwick\, Holtwicker Str. 1\, Rosendahl-Osterwick\, 48720\, Deutschland
CATEGORIES:Unterricht in Osterwick-Rosendahl
END:VEVENT
BEGIN:VEVENT
DTSTART;TZID=Europe/Berlin:20261208T170000
DTEND;TZID=Europe/Berlin:20261208T200000
DTSTAMP:20260424T194804
CREATED:20251203T131626Z
LAST-MODIFIED:20251203T131626Z
UID:2357-1796749200-1796760000@www.fahrschule-reckers.de
SUMMARY:Theorie in Osterwick-Rosendahl 2/7
DESCRIPTION:
URL:https://www.fahrschule-reckers.de/kurs/theorie-in-osterwick-rosendahl-2-7-8/
LOCATION:Fahrschule Rosendahl-Osterwick\, Holtwicker Str. 1\, Rosendahl-Osterwick\, 48720\, Deutschland
CATEGORIES:Unterricht in Osterwick-Rosendahl
END:VEVENT
BEGIN:VEVENT
DTSTART;TZID=Europe/Berlin:20261209T170000
DTEND;TZID=Europe/Berlin:20261209T200000
DTSTAMP:20260424T194804
CREATED:20251203T131626Z
LAST-MODIFIED:20251203T131626Z
UID:2358-1796835600-1796846400@www.fahrschule-reckers.de
SUMMARY:Theorie in Osterwick-Rosendahl 3/7
DESCRIPTION:
URL:https://www.fahrschule-reckers.de/kurs/theorie-in-osterwick-rosendahl-3-7-8/
LOCATION:Fahrschule Rosendahl-Osterwick\, Holtwicker Str. 1\, Rosendahl-Osterwick\, 48720\, Deutschland
CATEGORIES:Unterricht in Osterwick-Rosendahl
END:VEVENT
BEGIN:VEVENT
DTSTART;TZID=Europe/Berlin:20261210T170000
DTEND;TZID=Europe/Berlin:20261210T200000
DTSTAMP:20260424T194804
CREATED:20251203T131627Z
LAST-MODIFIED:20251203T131627Z
UID:2359-1796922000-1796932800@www.fahrschule-reckers.de
SUMMARY:Theorie in Osterwick-Rosendahl 4/7
DESCRIPTION:
URL:https://www.fahrschule-reckers.de/kurs/theorie-in-osterwick-rosendahl-4-7-8/
LOCATION:Fahrschule Rosendahl-Osterwick\, Holtwicker Str. 1\, Rosendahl-Osterwick\, 48720\, Deutschland
CATEGORIES:Unterricht in Osterwick-Rosendahl
END:VEVENT
BEGIN:VEVENT
DTSTART;TZID=Europe/Berlin:20261211T170000
DTEND;TZID=Europe/Berlin:20261211T200000
DTSTAMP:20260424T194804
CREATED:20251203T131627Z
LAST-MODIFIED:20251203T131627Z
UID:2360-1797008400-1797019200@www.fahrschule-reckers.de
SUMMARY:Theorie in Osterwick-Rosendahl 5/7
DESCRIPTION:
URL:https://www.fahrschule-reckers.de/kurs/theorie-in-osterwick-rosendahl-5-7-8/
LOCATION:Fahrschule Rosendahl-Osterwick\, Holtwicker Str. 1\, Rosendahl-Osterwick\, 48720\, Deutschland
CATEGORIES:Unterricht in Osterwick-Rosendahl
END:VEVENT
BEGIN:VEVENT
DTSTART;TZID=Europe/Berlin:20261212T090000
DTEND;TZID=Europe/Berlin:20261212T120000
DTSTAMP:20260424T194804
CREATED:20251203T131627Z
LAST-MODIFIED:20251203T131627Z
UID:2361-1797066000-1797076800@www.fahrschule-reckers.de
SUMMARY:Theorie in Osterwick-Rosendahl 6/7
DESCRIPTION:
URL:https://www.fahrschule-reckers.de/kurs/theorie-in-osterwick-rosendahl-6-7-8/
LOCATION:Fahrschule Rosendahl-Osterwick\, Holtwicker Str. 1\, Rosendahl-Osterwick\, 48720\, Deutschland
CATEGORIES:Unterricht in Osterwick-Rosendahl
END:VEVENT
BEGIN:VEVENT
DTSTART;TZID=Europe/Berlin:20261214T170000
DTEND;TZID=Europe/Berlin:20261214T200000
DTSTAMP:20260424T194804
CREATED:20251202T151832Z
LAST-MODIFIED:20251202T151832Z
UID:2155-1797267600-1797278400@www.fahrschule-reckers.de
SUMMARY:Theorie in Coesfeld 1/7
DESCRIPTION:
URL:https://www.fahrschule-reckers.de/kurs/theorie-in-coesfeld-1-7-7/
LOCATION:Fahrschule Coesfeld\, Letter Straße 46\, Coesfeld\, 48653\, Deutschland
CATEGORIES:Unterricht in Coesfeld
END:VEVENT
BEGIN:VEVENT
DTSTART;TZID=Europe/Berlin:20261214T170000
DTEND;TZID=Europe/Berlin:20261214T200000
DTSTAMP:20260424T194804
CREATED:20251203T131627Z
LAST-MODIFIED:20251203T131627Z
UID:2362-1797267600-1797278400@www.fahrschule-reckers.de
SUMMARY:Theorie in Osterwick-Rosendahl 7/7
DESCRIPTION:
URL:https://www.fahrschule-reckers.de/kurs/theorie-in-osterwick-rosendahl-7-7-8/
LOCATION:Fahrschule Rosendahl-Osterwick\, Holtwicker Str. 1\, Rosendahl-Osterwick\, 48720\, Deutschland
CATEGORIES:Unterricht in Osterwick-Rosendahl
END:VEVENT
BEGIN:VEVENT
DTSTART;TZID=Europe/Berlin:20261214T180000
DTEND;TZID=Europe/Berlin:20261214T210000
DTSTAMP:20260424T194804
CREATED:20251203T124309Z
LAST-MODIFIED:20251203T124309Z
UID:2269-1797271200-1797282000@www.fahrschule-reckers.de
SUMMARY:Theorie in Gescher 1/7
DESCRIPTION:
URL:https://www.fahrschule-reckers.de/kurs/theorie-in-gescher-1-7-7/
LOCATION:Fahrschule Gescher\, Hauptstraße 3\, Gescher\, 48712\, Deutschland
CATEGORIES:Unterricht in Gescher
END:VEVENT
BEGIN:VEVENT
DTSTART;TZID=Europe/Berlin:20261215T170000
DTEND;TZID=Europe/Berlin:20261215T200000
DTSTAMP:20260424T194804
CREATED:20251202T151832Z
LAST-MODIFIED:20251202T151832Z
UID:2156-1797354000-1797364800@www.fahrschule-reckers.de
SUMMARY:Theorie in Coesfeld 2/7
DESCRIPTION:
URL:https://www.fahrschule-reckers.de/kurs/theorie-in-coesfeld-2-7-7/
LOCATION:Fahrschule Coesfeld\, Letter Straße 46\, Coesfeld\, 48653\, Deutschland
CATEGORIES:Unterricht in Coesfeld
END:VEVENT
BEGIN:VEVENT
DTSTART;TZID=Europe/Berlin:20261215T180000
DTEND;TZID=Europe/Berlin:20261215T210000
DTSTAMP:20260424T194804
CREATED:20251203T124254Z
LAST-MODIFIED:20251203T124254Z
UID:2257-1797357600-1797368400@www.fahrschule-reckers.de
SUMMARY:Theorie in Gescher 2/7
DESCRIPTION:
URL:https://www.fahrschule-reckers.de/kurs/theorie-in-gescher-2-7-7/
LOCATION:Fahrschule Gescher\, Hauptstraße 3\, Gescher\, 48712\, Deutschland
CATEGORIES:Unterricht in Gescher
END:VEVENT
BEGIN:VEVENT
DTSTART;TZID=Europe/Berlin:20261216T170000
DTEND;TZID=Europe/Berlin:20261216T200000
DTSTAMP:20260424T194804
CREATED:20251202T151833Z
LAST-MODIFIED:20251202T151833Z
UID:2157-1797440400-1797451200@www.fahrschule-reckers.de
SUMMARY:Theorie in Coesfeld 3/7
DESCRIPTION:
URL:https://www.fahrschule-reckers.de/kurs/theorie-in-coesfeld-3-7-7/
LOCATION:Fahrschule Coesfeld\, Letter Straße 46\, Coesfeld\, 48653\, Deutschland
CATEGORIES:Unterricht in Coesfeld
END:VEVENT
BEGIN:VEVENT
DTSTART;TZID=Europe/Berlin:20261216T180000
DTEND;TZID=Europe/Berlin:20261216T210000
DTSTAMP:20260424T194804
CREATED:20251203T124255Z
LAST-MODIFIED:20251203T124255Z
UID:2258-1797444000-1797454800@www.fahrschule-reckers.de
SUMMARY:Theorie in Gescher 3/7
DESCRIPTION:
URL:https://www.fahrschule-reckers.de/kurs/theorie-in-gescher-3-7-7/
LOCATION:Fahrschule Gescher\, Hauptstraße 3\, Gescher\, 48712\, Deutschland
CATEGORIES:Unterricht in Gescher
END:VEVENT
BEGIN:VEVENT
DTSTART;TZID=Europe/Berlin:20261217T170000
DTEND;TZID=Europe/Berlin:20261217T200000
DTSTAMP:20260424T194804
CREATED:20251202T151833Z
LAST-MODIFIED:20251202T151833Z
UID:2158-1797526800-1797537600@www.fahrschule-reckers.de
SUMMARY:Theorie in Coesfeld 4/7
DESCRIPTION:
URL:https://www.fahrschule-reckers.de/kurs/theorie-in-coesfeld-4-7-7/
LOCATION:Fahrschule Coesfeld\, Letter Straße 46\, Coesfeld\, 48653\, Deutschland
CATEGORIES:Unterricht in Coesfeld
END:VEVENT
BEGIN:VEVENT
DTSTART;TZID=Europe/Berlin:20261217T180000
DTEND;TZID=Europe/Berlin:20261217T210000
DTSTAMP:20260424T194804
CREATED:20251203T124255Z
LAST-MODIFIED:20251203T124255Z
UID:2259-1797530400-1797541200@www.fahrschule-reckers.de
SUMMARY:Theorie in Gescher 4/7
DESCRIPTION:
URL:https://www.fahrschule-reckers.de/kurs/theorie-in-gescher-4-7-7/
LOCATION:Fahrschule Gescher\, Hauptstraße 3\, Gescher\, 48712\, Deutschland
CATEGORIES:Unterricht in Gescher
END:VEVENT
BEGIN:VEVENT
DTSTART;TZID=Europe/Berlin:20261218T170000
DTEND;TZID=Europe/Berlin:20261218T200000
DTSTAMP:20260424T194804
CREATED:20251202T151833Z
LAST-MODIFIED:20251202T151833Z
UID:2159-1797613200-1797624000@www.fahrschule-reckers.de
SUMMARY:Theorie in Coesfeld 5/7
DESCRIPTION:
URL:https://www.fahrschule-reckers.de/kurs/theorie-in-coesfeld-5-7-7/
LOCATION:Fahrschule Coesfeld\, Letter Straße 46\, Coesfeld\, 48653\, Deutschland
CATEGORIES:Unterricht in Coesfeld
END:VEVENT
BEGIN:VEVENT
DTSTART;TZID=Europe/Berlin:20261218T180000
DTEND;TZID=Europe/Berlin:20261218T210000
DTSTAMP:20260424T194804
CREATED:20251203T124256Z
LAST-MODIFIED:20251203T124256Z
UID:2260-1797616800-1797627600@www.fahrschule-reckers.de
SUMMARY:Theorie in Gescher 5/7
DESCRIPTION:
URL:https://www.fahrschule-reckers.de/kurs/theorie-in-gescher-5-7-7/
LOCATION:Fahrschule Gescher\, Hauptstraße 3\, Gescher\, 48712\, Deutschland
CATEGORIES:Unterricht in Gescher
END:VEVENT
BEGIN:VEVENT
DTSTART;TZID=Europe/Berlin:20261219T090000
DTEND;TZID=Europe/Berlin:20261219T120000
DTSTAMP:20260424T194804
CREATED:20251202T151834Z
LAST-MODIFIED:20251202T151834Z
UID:2161-1797670800-1797681600@www.fahrschule-reckers.de
SUMMARY:Theorie in Coesfeld 6/7
DESCRIPTION:
URL:https://www.fahrschule-reckers.de/kurs/theorie-in-coesfeld-6-7-7/
LOCATION:Fahrschule Coesfeld\, Letter Straße 46\, Coesfeld\, 48653\, Deutschland
CATEGORIES:Unterricht in Coesfeld
END:VEVENT
BEGIN:VEVENT
DTSTART;TZID=Europe/Berlin:20261219T090000
DTEND;TZID=Europe/Berlin:20261219T120000
DTSTAMP:20260424T194804
CREATED:20251203T124257Z
LAST-MODIFIED:20251203T124257Z
UID:2261-1797670800-1797681600@www.fahrschule-reckers.de
SUMMARY:Theorie in Gescher 6/7
DESCRIPTION:
URL:https://www.fahrschule-reckers.de/kurs/theorie-in-gescher-6-7-7/
LOCATION:Fahrschule Gescher\, Hauptstraße 3\, Gescher\, 48712\, Deutschland
CATEGORIES:Unterricht in Gescher
END:VEVENT
BEGIN:VEVENT
DTSTART;TZID=Europe/Berlin:20261221T170000
DTEND;TZID=Europe/Berlin:20261221T200000
DTSTAMP:20260424T194804
CREATED:20251202T151834Z
LAST-MODIFIED:20251202T151834Z
UID:2160-1797872400-1797883200@www.fahrschule-reckers.de
SUMMARY:Theorie in Coesfeld 7/7
DESCRIPTION:
URL:https://www.fahrschule-reckers.de/kurs/theorie-in-coesfeld-7-7-7/
LOCATION:Fahrschule Coesfeld\, Letter Straße 46\, Coesfeld\, 48653\, Deutschland
CATEGORIES:Unterricht in Coesfeld
END:VEVENT
BEGIN:VEVENT
DTSTART;TZID=Europe/Berlin:20261221T180000
DTEND;TZID=Europe/Berlin:20261221T210000
DTSTAMP:20260424T194804
CREATED:20251203T124257Z
LAST-MODIFIED:20251203T124257Z
UID:2262-1797876000-1797886800@www.fahrschule-reckers.de
SUMMARY:Theorie in Gescher 7/7
DESCRIPTION:
URL:https://www.fahrschule-reckers.de/kurs/theorie-in-gescher-7-7-7/
LOCATION:Fahrschule Gescher\, Hauptstraße 3\, Gescher\, 48712\, Deutschland
CATEGORIES:Unterricht in Gescher
END:VEVENT
BEGIN:VEVENT
DTSTART;VALUE=DATE:20261225
DTEND;VALUE=DATE:20261226
DTSTAMP:20260424T194804
CREATED:20251202T144718Z
LAST-MODIFIED:20251202T144718Z
UID:2054-1798156800-1798243199@www.fahrschule-reckers.de
SUMMARY:1. Weihnachtstag
DESCRIPTION:
URL:https://www.fahrschule-reckers.de/kurs/1-weihnachtstag/
CATEGORIES:Feiertage 2026
END:VEVENT
BEGIN:VEVENT
DTSTART;VALUE=DATE:20261226
DTEND;VALUE=DATE:20261227
DTSTAMP:20260424T194804
CREATED:20251202T144719Z
LAST-MODIFIED:20251202T144719Z
UID:2055-1798243200-1798329599@www.fahrschule-reckers.de
SUMMARY:2. Weihnachtstag
DESCRIPTION:
URL:https://www.fahrschule-reckers.de/kurs/2-weihnachtstag/
CATEGORIES:Feiertage 2026
END:VEVENT
END:VCALENDAR