BEGIN:VCALENDAR
VERSION:2.0
PRODID:-//Fahrschule Reckers - ECPv6.15.18//NONSGML v1.0//EN
CALSCALE:GREGORIAN
METHOD:PUBLISH
X-WR-CALNAME:Fahrschule Reckers
X-ORIGINAL-URL:https://www.fahrschule-reckers.de
X-WR-CALDESC:Veranstaltungen für Fahrschule Reckers
REFRESH-INTERVAL;VALUE=DURATION:PT1H
X-Robots-Tag:noindex
X-PUBLISHED-TTL:PT1H
BEGIN:VTIMEZONE
TZID:Europe/Berlin
BEGIN:DAYLIGHT
TZOFFSETFROM:+0100
TZOFFSETTO:+0200
TZNAME:CEST
DTSTART:20250330T010000
END:DAYLIGHT
BEGIN:STANDARD
TZOFFSETFROM:+0200
TZOFFSETTO:+0100
TZNAME:CET
DTSTART:20251026T010000
END:STANDARD
BEGIN:DAYLIGHT
TZOFFSETFROM:+0100
TZOFFSETTO:+0200
TZNAME:CEST
DTSTART:20260329T010000
END:DAYLIGHT
BEGIN:STANDARD
TZOFFSETFROM:+0200
TZOFFSETTO:+0100
TZNAME:CET
DTSTART:20261025T010000
END:STANDARD
BEGIN:DAYLIGHT
TZOFFSETFROM:+0100
TZOFFSETTO:+0200
TZNAME:CEST
DTSTART:20270328T010000
END:DAYLIGHT
BEGIN:STANDARD
TZOFFSETFROM:+0200
TZOFFSETTO:+0100
TZNAME:CET
DTSTART:20271031T010000
END:STANDARD
END:VTIMEZONE
BEGIN:VEVENT
DTSTART;TZID=Europe/Berlin:20260422T170000
DTEND;TZID=Europe/Berlin:20260422T200000
DTSTAMP:20260422T211322
CREATED:20251202T151433Z
LAST-MODIFIED:20251202T151433Z
UID:2101-1776877200-1776888000@www.fahrschule-reckers.de
SUMMARY:Theorie in Coesfeld 3/7
DESCRIPTION:
URL:https://www.fahrschule-reckers.de/kurs/theorie-in-coesfeld-3-7-3/
LOCATION:Fahrschule Coesfeld\, Letter Straße 46\, Coesfeld\, 48653\, Deutschland
CATEGORIES:Unterricht in Coesfeld
END:VEVENT
BEGIN:VEVENT
DTSTART;TZID=Europe/Berlin:20260423T170000
DTEND;TZID=Europe/Berlin:20260423T200000
DTSTAMP:20260422T211322
CREATED:20251202T151433Z
LAST-MODIFIED:20251202T151433Z
UID:2102-1776963600-1776974400@www.fahrschule-reckers.de
SUMMARY:Theorie in Coesfeld 4/7
DESCRIPTION:
URL:https://www.fahrschule-reckers.de/kurs/theorie-in-coesfeld-4-7-3/
LOCATION:Fahrschule Coesfeld\, Letter Straße 46\, Coesfeld\, 48653\, Deutschland
CATEGORIES:Unterricht in Coesfeld
END:VEVENT
BEGIN:VEVENT
DTSTART;TZID=Europe/Berlin:20260424T170000
DTEND;TZID=Europe/Berlin:20260424T200000
DTSTAMP:20260422T211322
CREATED:20251202T151434Z
LAST-MODIFIED:20251202T151434Z
UID:2103-1777050000-1777060800@www.fahrschule-reckers.de
SUMMARY:Theorie in Coesfeld 5/7
DESCRIPTION:
URL:https://www.fahrschule-reckers.de/kurs/theorie-in-coesfeld-5-7-3/
LOCATION:Fahrschule Coesfeld\, Letter Straße 46\, Coesfeld\, 48653\, Deutschland
CATEGORIES:Unterricht in Coesfeld
END:VEVENT
BEGIN:VEVENT
DTSTART;TZID=Europe/Berlin:20260425T090000
DTEND;TZID=Europe/Berlin:20260425T120000
DTSTAMP:20260422T211322
CREATED:20251202T151434Z
LAST-MODIFIED:20251202T151434Z
UID:2104-1777107600-1777118400@www.fahrschule-reckers.de
SUMMARY:Theorie in Coesfeld 6/7
DESCRIPTION:
URL:https://www.fahrschule-reckers.de/kurs/theorie-in-coesfeld-6-7-3/
LOCATION:Fahrschule Coesfeld\, Letter Straße 46\, Coesfeld\, 48653\, Deutschland
CATEGORIES:Unterricht in Coesfeld
END:VEVENT
BEGIN:VEVENT
DTSTART;TZID=Europe/Berlin:20260427T170000
DTEND;TZID=Europe/Berlin:20260427T200000
DTSTAMP:20260422T211322
CREATED:20251202T151434Z
LAST-MODIFIED:20251202T151434Z
UID:2105-1777309200-1777320000@www.fahrschule-reckers.de
SUMMARY:Theorie in Coesfeld 7/7
DESCRIPTION:
URL:https://www.fahrschule-reckers.de/kurs/theorie-in-coesfeld-7-7-3/
LOCATION:Fahrschule Coesfeld\, Letter Straße 46\, Coesfeld\, 48653\, Deutschland
CATEGORIES:Unterricht in Coesfeld
END:VEVENT
BEGIN:VEVENT
DTSTART;TZID=Europe/Berlin:20260427T180000
DTEND;TZID=Europe/Berlin:20260427T210000
DTSTAMP:20260422T211322
CREATED:20251203T123824Z
LAST-MODIFIED:20251203T123824Z
UID:2200-1777312800-1777323600@www.fahrschule-reckers.de
SUMMARY:Theorie in Gescher 1/7
DESCRIPTION:
URL:https://www.fahrschule-reckers.de/kurs/theorie-in-gescher-1-7-3/
LOCATION:Fahrschule Gescher\, Hauptstraße 3\, Gescher\, 48712\, Deutschland
CATEGORIES:Unterricht in Gescher
END:VEVENT
BEGIN:VEVENT
DTSTART;TZID=Europe/Berlin:20260428T180000
DTEND;TZID=Europe/Berlin:20260428T210000
DTSTAMP:20260422T211322
CREATED:20251203T123824Z
LAST-MODIFIED:20251203T123824Z
UID:2201-1777399200-1777410000@www.fahrschule-reckers.de
SUMMARY:Theorie in Gescher 2/7
DESCRIPTION:
URL:https://www.fahrschule-reckers.de/kurs/theorie-in-gescher-2-7-3/
LOCATION:Fahrschule Gescher\, Hauptstraße 3\, Gescher\, 48712\, Deutschland
CATEGORIES:Unterricht in Gescher
END:VEVENT
BEGIN:VEVENT
DTSTART;TZID=Europe/Berlin:20260429T180000
DTEND;TZID=Europe/Berlin:20260429T210000
DTSTAMP:20260422T211322
CREATED:20251203T123825Z
LAST-MODIFIED:20251203T123825Z
UID:2202-1777485600-1777496400@www.fahrschule-reckers.de
SUMMARY:Theorie in Gescher 3/7
DESCRIPTION:
URL:https://www.fahrschule-reckers.de/kurs/theorie-in-gescher-3-7-3/
LOCATION:Fahrschule Gescher\, Hauptstraße 3\, Gescher\, 48712\, Deutschland
CATEGORIES:Unterricht in Gescher
END:VEVENT
BEGIN:VEVENT
DTSTART;TZID=Europe/Berlin:20260430T180000
DTEND;TZID=Europe/Berlin:20260430T210000
DTSTAMP:20260422T211322
CREATED:20251203T123826Z
LAST-MODIFIED:20251203T123826Z
UID:2203-1777572000-1777582800@www.fahrschule-reckers.de
SUMMARY:Theorie in Gescher 4/7
DESCRIPTION:
URL:https://www.fahrschule-reckers.de/kurs/theorie-in-gescher-4-7-3/
LOCATION:Fahrschule Gescher\, Hauptstraße 3\, Gescher\, 48712\, Deutschland
CATEGORIES:Unterricht in Gescher
END:VEVENT
END:VCALENDAR